BEGIN:VCALENDAR
VERSION:2.0
PRODID:-//Landjugend Rheinland-Nassau - ECPv6.15.15//NONSGML v1.0//EN
CALSCALE:GREGORIAN
METHOD:PUBLISH
X-WR-CALNAME:Landjugend Rheinland-Nassau
X-ORIGINAL-URL:https://landjugend-rln.de
X-WR-CALDESC:Veranstaltungen für Landjugend Rheinland-Nassau
REFRESH-INTERVAL;VALUE=DURATION:PT1H
X-Robots-Tag:noindex
X-PUBLISHED-TTL:PT1H
BEGIN:VTIMEZONE
TZID:UTC
BEGIN:STANDARD
TZOFFSETFROM:+0000
TZOFFSETTO:+0000
TZNAME:UTC
DTSTART:20250101T000000
END:STANDARD
END:VTIMEZONE
BEGIN:VEVENT
DTSTART;VALUE=DATE:20260114
DTEND;VALUE=DATE:20260115
DTSTAMP:20260424T144713
CREATED:20251126T113433Z
LAST-MODIFIED:20251126T113433Z
UID:4756-1768348800-1768435199@landjugend-rln.de
SUMMARY:Jungweinprobe mit Daniela Schmitt
DESCRIPTION:Junge Winzerinnen und Winzer der Landjugendverbände Rheinland-Nassau und RheinhessenPfalz stellen ihre neuen Weine vor und diskutieren mit Landwirtschaftsministerin Daniela Schmitt über aktuelle weinbaupolitische Themen. Wer Interesse hat\, dabei zu sein und auch selbst seine Weine zu präsentieren\, kann sich gerne bei uns in der Geschäftsstelle melden.
URL:https://landjugend-rln.de/event/jungweinprobe-mit-daniela-schmitt/
LOCATION:Mainz
CATEGORIES:Veranstaltungen
ATTACH;FMTTYPE=image/jpeg:https://landjugend-rln.de/wp-content/uploads/2025/11/jungweinprobe.jpeg
ORGANIZER;CN="Landjugend Rheinland-Nassau":MAILTO:landjugend@bwv-net.de
END:VEVENT
END:VCALENDAR